BEGIN:VCALENDAR
VERSION:2.0
PRODID:-//Tukios.com/
BEGIN:VEVENT
UID:4260a35f-0a45-498b-9b76-710e5539552a@www.bcbfuneralhome.com
DTSTAMP:20260420T011314Z
DTSTART:20260425T200000Z
DTEND:20260425T210000Z
SUMMARY:Memorial Service
DESCRIPTION:
URL:https://www.bcbfuneralhome.com/obituaries/gary-smith
LOCATION:Baum-Carlock-Bumgardner Funeral Home Chapel 302 West Hubbard 
	Street  Mineral Wells TX 76067
GEO:32.8094868;-98.1148698
END:VEVENT
END:VCALENDAR