BEGIN:VCALENDAR
VERSION:2.0
PRODID:-//Tukios.com/
BEGIN:VEVENT
UID:165541d5-f694-4eb3-a49f-71c694558efe@www.bcbfuneralhome.com
DTSTAMP:20260420T172147Z
DTSTART:20260423T230000Z
DTEND:20260424T010000Z
SUMMARY:Visitation
DESCRIPTION:
URL:https://www.bcbfuneralhome.com/obituaries/jack-lee-powell
LOCATION:Baum Carlock Bumgardner Funeral Chapel 302 West Hubbard Street  
	Mineral Wells TX 76067
GEO:32.8094507;-98.1148508
END:VEVENT
END:VCALENDAR