BEGIN:VCALENDAR
VERSION:2.0
PRODID:-//Tukios.com/
BEGIN:VEVENT
UID:2fd2b817-45e0-44b0-bf6e-eb707408e803@www.bcbfuneralhome.com
DTSTAMP:20260420T171643Z
DTSTART:20260424T190000Z
DTEND:20260424T200000Z
SUMMARY:Funeral Service
DESCRIPTION:
URL:https://www.bcbfuneralhome.com/obituaries/jack-lee-powell
LOCATION: 1401 Southeast 25th Avenue  Mineral Wells TX 76067
GEO:32.7994154;-98.0871889
END:VEVENT
END:VCALENDAR