BEGIN:VCALENDAR
VERSION:2.0
PRODID:-//Tukios.com/
BEGIN:VEVENT
UID:7fa651e5-169b-4af5-8cbe-bd8c8c1c5b52@www.bcbfuneralhome.com
DTSTAMP:20260422T175154Z
DTSTART:20260502T190000Z
DTEND:20260502T200000Z
SUMMARY:Memorial Service
DESCRIPTION:
URL:https://www.bcbfuneralhome.com/obituaries/martha-suther
LOCATION:First Presbyterian Church 302 West Hubbard Street  Mineral Wells 
	TX 76067
GEO:32.8094868;-98.1148698
END:VEVENT
END:VCALENDAR