BEGIN:VCALENDAR
VERSION:2.0
PRODID:-//Tukios.com/
BEGIN:VEVENT
UID:bbd6ff0c-7874-4808-a902-e680612e512a@www.bcbfuneralhome.com
DTSTAMP:20260420T221033Z
DTSTART:20260424T233000Z
DTEND:20260425T003000Z
SUMMARY:Rosary
DESCRIPTION:
URL:https://www.bcbfuneralhome.com/obituaries/nancy-villarreal
LOCATION: 302 West Hubbard Street  Mineral Wells TX 76067
GEO:32.8094868;-98.1148698
END:VEVENT
END:VCALENDAR