BEGIN:VCALENDAR
VERSION:2.0
PRODID:-//Tukios.com/
BEGIN:VEVENT
UID:a788b49e-df12-4a38-99f0-b474dc8374d9@www.bcbfuneralhome.com
DTSTAMP:20260420T220556Z
DTSTART:20260425T150000Z
DTEND:20260425T160000Z
SUMMARY:Mass
DESCRIPTION:
URL:https://www.bcbfuneralhome.com/obituaries/nancy-villarreal
LOCATION: 108 Northwest 4th Avenue  Mineral Wells TX 76067
GEO:32.8097362;-98.1160856
END:VEVENT
END:VCALENDAR