BEGIN:VCALENDAR
VERSION:2.0
PRODID:-//Tukios.com/
BEGIN:VEVENT
UID:d49795ba-59ef-43c0-80c8-b4528a3c83ff@www.bcbfuneralhome.com
DTSTAMP:20260424T205159Z
DTSTART:20260509T180000Z
DTEND:20260509T190000Z
SUMMARY:Visitation
DESCRIPTION:
URL:https://www.bcbfuneralhome.com/obituaries/richard-hoefelmann
LOCATION:First Christian Church 302 NW 6th St  Mineral Wells TX 76067
GEO:32.8142742;-98.1149374
END:VEVENT
END:VCALENDAR