BEGIN:VCALENDAR
VERSION:2.0
PRODID:-//Tukios.com/
BEGIN:VEVENT
UID:530680a7-f6f2-4ba6-bc37-87c982926cc6@www.bcbfuneralhome.com
DTSTAMP:20260424T205641Z
DTSTART:20260509T190000Z
DTEND:20260509T200000Z
SUMMARY:Funeral Service
DESCRIPTION:
URL:https://www.bcbfuneralhome.com/obituaries/richard-hoefelmann
LOCATION:First Christian Church 302 NW 6th St  Mineral Wells TX 76067
GEO:32.8142742;-98.1149374
END:VEVENT
END:VCALENDAR